BEGIN:VCALENDAR
VERSION:2.0
PRODID:-//wp-events-plugin.com//7.2.3.1//EN
TZID:Europe/Paris
X-WR-TIMEZONE:Europe/Paris
BEGIN:VEVENT
UID:95@ccefr.fr
DTSTART;TZID=Europe/Paris:20251216T173000
DTEND;TZID=Europe/Paris:20251216T200000
DTSTAMP:20251130T221057Z
URL:https://www.ccefr.fr/events/anniversaire-des-120-ans-de-la-loi-de-1905
 -sur-la-laicite-avec-delphine-girard/
SUMMARY:Anniversaire des 120 ans de la loi de 1905 sur la laïcité avec De
 lphine GIRARD
DESCRIPTION:Un moment exceptionnel\nPour marquer l’anniversaire des 120 a
 ns de la loi de 1905 sur la laïcité\, le CCEFR a invité Delphine GIRARD
 \, professeure de lettres en collège\, membre du Conseil des Sages sur la
  Laïcité au Ministère de l’Education Nationale\, réalisatrice de cin
 éma.\nDelphine Girard dédicacera son livre: “ Madame\, vous n’avez p
 as le droit”\, témoignage intime et cri d’alarme à la fois. Elle y r
 aconte son quotidien de professeure en collège\, ses combats de militante
  laïque comme son parcours d' "enfant de la République”\,fille d’ouv
 riers immigrés.\nEntrée Libre \nEn raison de la proximité avec la fin 
 de l’année\, une collation sera offerte par le CCEFR aux participants.
CATEGORIES:2025,Débat
LOCATION:Maison des Associations et des Activités Citoyennes\, 60 rue Fran
 klin\, MONTREUIL\, 93100\, France
X-APPLE-STRUCTURED-LOCATION;VALUE=URI;X-ADDRESS=60 rue Franklin\, MONTREUIL
 \, 93100\, France;X-APPLE-RADIUS=100;X-TITLE=Maison des Associations et de
 s Activités Citoyennes:geo:0,0
END:VEVENT
BEGIN:VTIMEZONE
TZID:Europe/Paris
X-LIC-LOCATION:Europe/Paris
BEGIN:STANDARD
DTSTART:20251026T020000
TZOFFSETFROM:+0200
TZOFFSETTO:+0100
TZNAME:CET
END:STANDARD
END:VTIMEZONE
END:VCALENDAR