BEGIN:VCALENDAR
VERSION:2.0
PRODID:-//wp-events-plugin.com//7.2.3.1//EN
TZID:Europe/Paris
X-WR-TIMEZONE:Europe/Paris
BEGIN:VEVENT
UID:90@ccefr.fr
DTSTART;TZID=Europe/Paris:20251008T193000
DTEND;TZID=Europe/Paris:20251008T220000
DTSTAMP:20251005T222625Z
URL:https://www.ccefr.fr/events/cycle-ces-mots-qui-nous-font-tant-de-maux/
SUMMARY:Cycle « Ces mots qui nous font tant de maux. »
DESCRIPTION:coordonné  et assuré par Ghaleb BENCHEIKH\, docteur en scien
 ces\, physicien et Président de la Fondation pour l’Islam de France.\nL
 ’épineuse question islamique est obsédante en France depuis des décen
 nies. Sa résolution est déterminante\, tant elle est cruciale\, au centr
 e d’enjeux nationaux et internationaux. La profusion éditoriale foisonn
 ante qui lui est consacrée décrit une gamme de sujets importants et vari
 és. Mais\, le vocabulaire utilisé n’est pas maîtrisé et la confusion
  règne et embrouille les esprits. Les notions abordées ne sont pas préc
 isées ni expliquées. Elles sont présentées par des termes à l’empor
 te-pièce avec un traitement médiatique superficiel qui aggrave le sentim
 ent d’incompréhension\, de trouble et de désordre.\n\nPour pallier cet
 te difficulté majeure\, un cycle de conférences est proposé avec une le
 çon inaugurale sur l’importance de la connaissance du champ lexical isl
 amique.\nMercredi 8 octobre 2025 de de 19h30 à 22h00.(entrée libre)\nSa
 lle paroissiale Saint Pierre et Saint Paul\n2 rue de Romainville 93100 MON
 TREUIL.\nSuivie de trois « cours » dédiés chacun à des mots-épouvant
 ail de son univers sémantique. Ce sera un travail d’assainissement et 
 de discernement pour guérir des maux occasionnés par la corruption de se
 ns de tant de mots comme fatwa\, jihad\, charia\, salafisme\, etc.\n\n 	me
 rcredi 15 octobre 2025\n 	mercredi 5 novembre 2025 \n 	mercredi 12 novem
 bre 2025\n\nMaison des Associations et des Activités Citoyennes\n60 rue F
 ranklin à Montreuil (93100)\n\nS'inscrire 
CATEGORIES:2025,Conférence
LOCATION:Salle paroissiale de l'église Saint Pierre et Saint Paul\, 2 rue 
 de Romainville\, MONTREUIL\, 93100\, Ile de France\, France
X-APPLE-STRUCTURED-LOCATION;VALUE=URI;X-ADDRESS=2 rue de Romainville\, MONT
 REUIL\, 93100\, Ile de France\, France;X-APPLE-RADIUS=100;X-TITLE=Salle pa
 roissiale de l'église Saint Pierre et Saint Paul:geo:0,0
END:VEVENT
BEGIN:VTIMEZONE
TZID:Europe/Paris
X-LIC-LOCATION:Europe/Paris
BEGIN:DAYLIGHT
DTSTART:20250330T030000
TZOFFSETFROM:+0100
TZOFFSETTO:+0200
TZNAME:CEST
END:DAYLIGHT
END:VTIMEZONE
END:VCALENDAR