BEGIN:VCALENDAR
VERSION:2.0
PRODID:-//wp-events-plugin.com//7.2.3.1//EN
TZID:Europe/Paris
X-WR-TIMEZONE:Europe/Paris
BEGIN:VEVENT
UID:92@ccefr.fr
DTSTART;TZID=Europe/Paris:20251203T143000
DTEND;TZID=Europe/Paris:20251203T170000
DTSTAMP:20251113T184828Z
URL:https://www.ccefr.fr/events/le-roman-policier/
SUMMARY:Le roman policier :
DESCRIPTION:« la preuve qu’il y a là-haut un grand bonhomme de Bon Dieu
  qui se charge de faire la police » ? avec  Frédéric GUGELOT\, Profes
 seur d'histoire contemporaine Université de Reims Champagne-Ardenne (URCA
 )\nLe catholicisme a donc continué à nourrir les cultures\, soit par imp
 régnation à l’exemple du roman policier.À d’autres occasions\, le c
 atholicisme cherche à offrir une alternative chrétienne aux productions 
 culturelles. L’exemple de la Bandes dessinées montre comment entre impr
 égnation et production\, le catholicisme continue à proposer des réalis
 ations d’inspiration chrétienne. Alors que face au déferlement de la m
 usique populaire de variété après la Seconde Guerre mondiale\, des prê
 tres montent sur scène pour une musique d’inspiration évangélique.\nC
 ycle "Le catholicisme et les cultures populaires au 20e siècle.BD\, roman
  policier et musique de variété."
CATEGORIES:2025
LOCATION:Maison des Associations et des Activités Citoyennes\, 60 rue Fran
 klin\, MONTREUIL\, 93100\, France
X-APPLE-STRUCTURED-LOCATION;VALUE=URI;X-ADDRESS=60 rue Franklin\, MONTREUIL
 \, 93100\, France;X-APPLE-RADIUS=100;X-TITLE=Maison des Associations et de
 s Activités Citoyennes:geo:0,0
END:VEVENT
BEGIN:VTIMEZONE
TZID:Europe/Paris
X-LIC-LOCATION:Europe/Paris
BEGIN:STANDARD
DTSTART:20251026T020000
TZOFFSETFROM:+0200
TZOFFSETTO:+0100
TZNAME:CET
END:STANDARD
END:VTIMEZONE
END:VCALENDAR