BEGIN:VCALENDAR
VERSION:2.0
PRODID:-//wp-events-plugin.com//7.2.3.1//EN
TZID:Europe/Paris
X-WR-TIMEZONE:Europe/Paris
BEGIN:VEVENT
UID:89@ccefr.fr
DTSTART;TZID=Europe/Paris:20251002T100000
DTEND;TZID=Europe/Paris:20251002T120000
DTSTAMP:20250906T095432Z
URL:https://www.ccefr.fr/events/visite-guidee-de-la-cathedrale-notre-dame-
 de-paris/
SUMMARY:Visite guidée de la cathédrale Notre Dame de Paris
DESCRIPTION:Organisée\, par le CCEFR\, avec Myriam DONCOEUR\, \nguide con
 férencière du musée du LOUVRE\, \njeudi 2 octobre 2025 à 10h \n\nSui
 te à l'incendie du 15 avril 2019 ayant détruit une partie de la cathédr
 ale\, d'importants travaux de restauration ont été entrepris et sont\, e
 n 2025\, en phase terminale.\nLa cathédrale retrouve petit à petit de sa
  superbe et sa réouverture au public a eu lieu\,  le 8 décembre 2024.\n
 Depuis\, les travaux sur les deux tours sont terminés et celles ci seront
  accessibles au public\, dés le 21 septembre 2025.\nVisite guidée (limit
 ée à 24 participants) : 15 €\n\n&nbsp\;\n\n { const dataHeight = e.dat
 a.height\; const haWidgetElement = document.getElementById('haWidget')\; h
 aWidgetElement.height = dataHeight + 'px'\; } )" &gt\;
CATEGORIES:2025,Visite necessitant une inscription
LOCATION:Cathédrale Notre Dame de Paris\, Place Jean Paul II\, Paris\, 750
 04\, France
X-APPLE-STRUCTURED-LOCATION;VALUE=URI;X-ADDRESS=Place Jean Paul II\, Paris\
 , 75004\, France;X-APPLE-RADIUS=100;X-TITLE=Cathédrale Notre Dame de Pari
 s:geo:0,0
END:VEVENT
BEGIN:VTIMEZONE
TZID:Europe/Paris
X-LIC-LOCATION:Europe/Paris
BEGIN:DAYLIGHT
DTSTART:20250330T030000
TZOFFSETFROM:+0100
TZOFFSETTO:+0200
TZNAME:CEST
END:DAYLIGHT
END:VTIMEZONE
END:VCALENDAR