BEGIN:VCALENDAR
VERSION:2.0
PRODID:-//wp-events-plugin.com//7.2.3.1//EN
TZID:Europe/Paris
X-WR-TIMEZONE:Europe/Paris
BEGIN:VEVENT
UID:97@ccefr.fr
DTSTART;TZID=Europe/Paris:20260612T141500
DTEND;TZID=Europe/Paris:20260612T160000
DTSTAMP:20260316T123146Z
URL:https://www.ccefr.fr/events/visite-guidee-introduction-a-lhindouisme/
SUMMARY:Visite guidée  Introduction à l'Hindouisme.
DESCRIPTION:Organisée\, par le CCEFR\,\nvendredi 12 juin 2026 à 14h15\nau
  Musée National des Arts Asiatiques - Guimet \nL’hindouisme invite ses
  fidèles à suivre le dharma (la loi du monde\, le devoir) et à atteindr
 e la moksha (la délivrance). Les œuvres sculptées renvoient à un ensem
 ble de mythes éclairant les deux notions.\nVisite guidée + entrée de l'
 exposition :  21  €\n20 participants au maximum.\nInscriptions du 4 ma
 i au 10 juin 2026.\n\nS'inscrire 
CATEGORIES:2026,Visite necessitant une inscription
LOCATION:Musée national des arts asiatiques - Guimet\, 6 place d'Iéna\, P
 ARIS\, 75116\, 
X-APPLE-STRUCTURED-LOCATION;VALUE=URI;X-ADDRESS=6 place d'Iéna\, PARIS\, 7
 5116\, ;X-APPLE-RADIUS=100;X-TITLE=Musée national des arts asiatiques - G
 uimet:geo:0,0
END:VEVENT
BEGIN:VTIMEZONE
TZID:Europe/Paris
X-LIC-LOCATION:Europe/Paris
BEGIN:DAYLIGHT
DTSTART:20260329T030000
TZOFFSETFROM:+0100
TZOFFSETTO:+0200
TZNAME:CEST
END:DAYLIGHT
END:VTIMEZONE
END:VCALENDAR